BEGIN:VCALENDAR
VERSION:2.0
PRODID:-//EverGreen Agriculture - ECPv4.6.18//NONSGML v1.0//EN
CALSCALE:GREGORIAN
METHOD:PUBLISH
X-WR-CALNAME:EverGreen Agriculture
X-ORIGINAL-URL:http://evergreenagriculture.net
X-WR-CALDESC:Events for EverGreen Agriculture
BEGIN:VEVENT
DTSTART;TZID=UTC+3:20170522T080000
DTEND;TZID=UTC+3:20170526T170000
DTSTAMP:20260421T130316
CREATED:20170313T125934Z
LAST-MODIFIED:20170313T125934Z
UID:1845-1495440000-1495818000@evergreenagriculture.net
SUMMARY:International Training Course on Combating Desertification\, 22-26 May 2017\, Turkey
DESCRIPTION:Turkey’s General Directorate of Combating Desertification and Erosion invites participants from the eligible countries of Eastern Europe\, Caucasus and Central Asia to take part in the International Training Course on Combating Desertification\, which will take place on 22-26 May 2017 in Konya-Mersin\, Turkey. The course is open to two representatives per country and is aimed at related decision makers\, forest engineers and NGO’s involved in the management of environmental problems related to desertification\, land degradation\, afforestation\, erosion control and forestry. \nAs a predominantly arid and semi-arid country\, Turkey has become a leader in land management\, especially in areas vulnerable to drought. The country has invested heavily in rehabilitating a wide variety of terrestrial ecosystems\, with national activities often planned at the watershed scale. Success can be attributed to an integrated\, participatory approach that strengthens the engagement and capacity of local people. Land governance has evolved to create the necessary conditions  and legal environment for the widespread implementation of Sustainable Land Management (SLM) practices. Turkey has also established itself as a leader in capacity building by investing in the training and skills development of civil society and local authorities\, particularly in Africa\, Central Asia and the Eastern Europe. \nThe training course is conducted under the Ankara Initiative\, which has been launched to strengthen the implementation of the UNCCD from 2016 to 2019. The Initiative supports the global sustainable development agenda and leverages the lessons learned from Turkey’s past experience and approaches to land management. \nClick her to register and learn more \n
URL:http://evergreenagriculture.net/event/international-training-course-on-combating-desertification-22-26-may-2017-turkey/
LOCATION:Turkey
ATTACH;FMTTYPE=image/jpeg:http://evergreenagriculture.net/wp-content/uploads/2017/03/9-31.jpg
END:VEVENT
END:VCALENDAR