BEGIN:VCALENDAR
VERSION:2.0
PRODID:-//EverGreen Agriculture - ECPv4.6.18//NONSGML v1.0//EN
CALSCALE:GREGORIAN
METHOD:PUBLISH
X-WR-CALNAME:EverGreen Agriculture
X-ORIGINAL-URL:http://evergreenagriculture.net
X-WR-CALDESC:Events for EverGreen Agriculture
BEGIN:VEVENT
DTSTART;TZID=UTC+3:20171211T080000
DTEND;TZID=UTC+3:20171215T170000
DTSTAMP:20260421T232755
CREATED:20170913T062613Z
LAST-MODIFIED:20170913T062613Z
UID:2113-1512979200-1513357200@evergreenagriculture.net
SUMMARY:Ecosystem Services Partnership (ESP) World Conference
DESCRIPTION:The 9th world conference of the Ecosystem Services Partnership (ESP) will boast a broad range of topics on the latest state-of-the-art on the science\, policy and practice of Ecosystem Services. The overarching theme will likely focus on the role of ecosystem services in ecosystem restoration and nature based solutions in natural\, rural and urban areas. \nThe ESP world conferences are organised bi-annually and rotate over the continents to reach a diverse audience. This year we will target Asia\, after hosting the 8th world conference in South Africa\, Africa in 2015. \nClick here to learn more and register \n
URL:http://evergreenagriculture.net/event/ecosystem-services-partnership-esp-world-conference/
ATTACH;FMTTYPE=image/jpeg:http://evergreenagriculture.net/wp-content/uploads/2017/09/kylin.jpg
END:VEVENT
END:VCALENDAR