BEGIN:VCALENDAR
VERSION:2.0
PRODID:-//EverGreen Agriculture - ECPv4.6.18//NONSGML v1.0//EN
CALSCALE:GREGORIAN
METHOD:PUBLISH
X-WR-CALNAME:EverGreen Agriculture
X-ORIGINAL-URL:http://evergreenagriculture.net
X-WR-CALDESC:Events for EverGreen Agriculture
BEGIN:VEVENT
DTSTART;TZID=UTC+3:20151015T080000
DTEND;TZID=UTC+3:20151015T100000
DTSTAMP:20260421T113716
CREATED:20151012T091718Z
LAST-MODIFIED:20151012T091718Z
UID:1025-1444896000-1444903200@evergreenagriculture.net
SUMMARY:Drought risk management policies for sustainable development: The way forward
DESCRIPTION:The overall goal of the side event is to discuss the challenges that drought-prone countries face in mitigating the effects of drought and what they can do to address them. the specific objectives include: to provide a platform for stakeholders (countries/ parties) to share their views on the existing challenges for drought resilience and to propose remedial measures; and to investigate options for strengthening national capacities by highlighting the three key pillars of drought preparedness planning: \ni) Drought early warning and monitoring systems \nii) Vulnerability and risk assessments \niii) Effective drought risk mitigation measures \n
URL:http://evergreenagriculture.net/event/drought-risk-management-policies-for-sustainable-development-the-way-forward/
END:VEVENT
END:VCALENDAR