BEGIN:VCALENDAR
VERSION:2.0
PRODID:-//EverGreen Agriculture - ECPv4.6.18//NONSGML v1.0//EN
CALSCALE:GREGORIAN
METHOD:PUBLISH
X-WR-CALNAME:EverGreen Agriculture
X-ORIGINAL-URL:http://evergreenagriculture.net
X-WR-CALDESC:Events for EverGreen Agriculture
BEGIN:VEVENT
DTSTART;TZID=UTC+3:20160301T080000
DTEND;TZID=UTC+3:20160302T170000
DTSTAMP:20260421T100317
CREATED:20151125T072940Z
LAST-MODIFIED:20151125T072940Z
UID:1262-1456819200-1456938000@evergreenagriculture.net
SUMMARY:Cracking the Nut '16: Regenerating rural and agricultural development
DESCRIPTION:Cracking the Nut is coming back to DC! After three years abroad\, the 2016 Cracking the Nut conference will take place in Washington\, DC on March 1-2\, 2016. \nConnexus is working with the Inter-American Development Bank\, USAID and Catholic Relief Services to organize a two-day learning event\, which will highlight changes being made to “regenerate” rural and agricultural market development and financial inclusion in developing countries. Based on findings of Cracking the Nut 2015: Expanding Rural and Agricultural Development Amid Climate Change\, the conference will go beyond environmental conservation to regeneration and repair of natural resources upon which rural and agricultural communities depend. \nThe Conference will showcase competitively selected best practices through three focused themes: \n\nRegenerating Rural and Agricultural Landscapes. How can public and private sector collaborate to restore deforested areas\, depleted soils and scarce water supplies\, while improving agricultural productivity? What incentives do companies offer to encourage their farmers to protect the environment and to apply agro-forestry and other climate-smart approaches? What models and technologies are cost effective for motivating small farmers to adapt their methods to protect soil\, ground cover and natural habitats?\nFinancing Environmentally Sustainable Development. How can we ensure that all farmers\, including women and youth\, have access to finance\, markets\, fair prices and climate-smart technical assistance? What types of finance are needed to rebuild the environment and economic potential of areas where natural resources have been exhausted? How can we reduce risk and increase lending to scale innovative climate-smart technologies?\nEncouraging Investment in Climate-Smart Agriculture. How can the private sector profitably invest in climate-smart agriculture? What technologies and investments can be made today to protect water and soil resources tomorrow? How can governments balance environmental protection policies with a desire to attract investments in rural and agricultural development?\n\nClick here for more information \nDownload the agenda \n
URL:http://evergreenagriculture.net/event/cracking-the-nut-16-regenerating-rural-and-agricultural-development/
LOCATION:1330 New York Avenue\, NW Washington\, DC 20577\, WA\, United States
ATTACH;FMTTYPE=image/png:http://evergreenagriculture.net/wp-content/uploads/2015/11/COP.png
END:VEVENT
END:VCALENDAR