BEGIN:VCALENDAR
VERSION:2.0
PRODID:-//EverGreen Agriculture - ECPv4.6.18//NONSGML v1.0//EN
CALSCALE:GREGORIAN
METHOD:PUBLISH
X-WR-CALNAME:EverGreen Agriculture
X-ORIGINAL-URL:http://evergreenagriculture.net
X-WR-CALDESC:Events for EverGreen Agriculture
BEGIN:VEVENT
DTSTART;TZID=UTC+3:20161026T080000
DTEND;TZID=UTC+3:20161028T170000
DTSTAMP:20260421T125723
CREATED:20160926T090448Z
LAST-MODIFIED:20160926T090448Z
UID:1582-1477468800-1477674000@evergreenagriculture.net
SUMMARY:Commemoration of the 7th Africa Day for Food and Nutrition Security
DESCRIPTION:The Africa Day for Food and Nutrition Security (ADFNS) was declared in July 2010 by the African Union Heads of State and Government (at the 15th Ordinary Session of the AU Summit) in Kampala\, Uganda. This decision was made in recognition of the unacceptable and chronic crisis of hunger and malnutrition in Africa. The first ADFNS was successfully launched in Lilongwe\, Malawi\, on 31st October 2010. Since then the ADFNS has been commemorated six times with the last edition taking place in Kampala\, Uganda\, from 28 to 30 October 2015. \nThe main purpose of the ADFNS is to serve as a platform for rallying political and financial commitments at all levels to address contemporary challenges of food and nutrition insecurity in Africa. The event provides a platform at national\, regional and continental levels to share experiences\, knowledge and mutual learning\, as well as measure progress in assuring food and nutrition security for all by governments and multi-stakeholder partners. \nThe aim of this concept note is to provide pertinent information on the commemoration of the October 2016 ADFNS\, including its proposed theme and sub-themes. It also provides background information on the theme and sub-themes of the event. \nClick here to learn more \n
URL:http://evergreenagriculture.net/event/commemoration-of-the-7th-africa-day-for-food-and-nutrition-security/
LOCATION:Accra\, Ghana
ATTACH;FMTTYPE=image/png:http://evergreenagriculture.net/wp-content/uploads/2016/09/ADFNS1.png
END:VEVENT
END:VCALENDAR