BEGIN:VCALENDAR
VERSION:2.0
PRODID:-//EverGreen Agriculture - ECPv4.6.18//NONSGML v1.0//EN
CALSCALE:GREGORIAN
METHOD:PUBLISH
X-WR-CALNAME:EverGreen Agriculture
X-ORIGINAL-URL:http://evergreenagriculture.net
X-WR-CALDESC:Events for EverGreen Agriculture
BEGIN:VEVENT
DTSTART;TZID=UTC+3:20171203T080000
DTEND;TZID=UTC+3:20171206T170000
DTSTAMP:20260421T215328
CREATED:20170913T061435Z
LAST-MODIFIED:20170913T061435Z
UID:2108-1512288000-1512579600@evergreenagriculture.net
SUMMARY:3rd International Conference on Global Food Security:  Global Challenges\, Local Solutions and Connected Pathways
DESCRIPTION:When it comes to ensuring food security and sustainable agriculture\, there simply is no one size fits all. Many interventions which have attempted to address the challenges of food security have not considered adequately complexity of the problem nor the need for locally-driven solutions. The 3rd International Conference on Global Food Security has intentionally included a focus on local solutions in its thematic approach for this very reason. \nThe five core conference themes reflect an integrated approach to identifying solutions to the complex global challenge of food security: \n\nFood creation\nFood safety and bio security\nFood loss and waste\nFood in a changing society\nFood utilization\n\nClick here to learn more and register \n
URL:http://evergreenagriculture.net/event/3rd-international-conference-on-global-food-security-global-challenges-local-solutions-and-connected-pathways/
ATTACH;FMTTYPE=image/jpeg:http://evergreenagriculture.net/wp-content/uploads/2017/09/g.jpg
END:VEVENT
END:VCALENDAR